BEGIN:VCALENDAR
VERSION:2.0
PRODID:-//Katz JCC - ECPv6.15.20//NONSGML v1.0//EN
CALSCALE:GREGORIAN
METHOD:PUBLISH
X-ORIGINAL-URL:https://katzjcc.org
X-WR-CALDESC:Events for Katz JCC
REFRESH-INTERVAL;VALUE=DURATION:PT1H
X-Robots-Tag:noindex
X-PUBLISHED-TTL:PT1H
BEGIN:VTIMEZONE
TZID:America/New_York
BEGIN:DAYLIGHT
TZOFFSETFROM:-0500
TZOFFSETTO:-0400
TZNAME:EDT
DTSTART:20230312T070000
END:DAYLIGHT
BEGIN:STANDARD
TZOFFSETFROM:-0400
TZOFFSETTO:-0500
TZNAME:EST
DTSTART:20231105T060000
END:STANDARD
BEGIN:DAYLIGHT
TZOFFSETFROM:-0500
TZOFFSETTO:-0400
TZNAME:EDT
DTSTART:20240310T070000
END:DAYLIGHT
BEGIN:STANDARD
TZOFFSETFROM:-0400
TZOFFSETTO:-0500
TZNAME:EST
DTSTART:20241103T060000
END:STANDARD
BEGIN:DAYLIGHT
TZOFFSETFROM:-0500
TZOFFSETTO:-0400
TZNAME:EDT
DTSTART:20250309T070000
END:DAYLIGHT
BEGIN:STANDARD
TZOFFSETFROM:-0400
TZOFFSETTO:-0500
TZNAME:EST
DTSTART:20251102T060000
END:STANDARD
END:VTIMEZONE
BEGIN:VEVENT
DTSTART;TZID=America/New_York:20240223T030000
DTEND;TZID=America/New_York:20240223T034500
DTSTAMP:20260422T101727
CREATED:20240130T230957Z
LAST-MODIFIED:20240130T230957Z
UID:83886-1708657200-1708659900@katzjcc.org
SUMMARY:Gentle Flow Yoga
DESCRIPTION:Enjoy a slow\, relaxing vinyasa flow.
URL:https://katzjcc.org/event/gentle-flow-yoga-14/
LOCATION:JFlow Studio
CATEGORIES:ALL Fitness & Wellness,Fitness & Wellness: Hybrid (Virtual/In-Person) Class
ATTACH;FMTTYPE=image/jpeg:https://katzjcc.org/wp-content/uploads/2022/12/featured-image.jpg
END:VEVENT
BEGIN:VEVENT
DTSTART;TZID=America/New_York:20240223T043000
DTEND;TZID=America/New_York:20240223T051500
DTSTAMP:20260422T101727
CREATED:20240130T231157Z
LAST-MODIFIED:20240130T231157Z
UID:83890-1708662600-1708665300@katzjcc.org
SUMMARY:Body Pump
DESCRIPTION:Les Mills original barbell class training all body parts choreographed to great music while using light plates and high repetitions for each muscle group!
URL:https://katzjcc.org/event/body-pump-125/
LOCATION:J360 Studio
CATEGORIES:ALL Fitness & Wellness,Fitness & Wellness: Hybrid (Virtual/In-Person) Class
ATTACH;FMTTYPE=image/jpeg:https://katzjcc.org/wp-content/uploads/2022/12/featured-image.jpg
END:VEVENT
BEGIN:VEVENT
DTSTART;TZID=America/New_York:20240223T043000
DTEND;TZID=America/New_York:20240223T053000
DTSTAMP:20260422T101727
CREATED:20240130T231156Z
LAST-MODIFIED:20240130T231156Z
UID:83889-1708662600-1708666200@katzjcc.org
SUMMARY:Zen Fit Bootcamp
DESCRIPTION:This class integrates cardio\, light weights and core focus with vinyasa yoga.
URL:https://katzjcc.org/event/zen-fit-bootcamp-22/
LOCATION:JFlow Studio
CATEGORIES:ALL Fitness & Wellness,Fitness & Wellness: Hybrid (Virtual/In-Person) Class
ATTACH;FMTTYPE=image/jpeg:https://katzjcc.org/wp-content/uploads/2022/12/featured-image.jpg
END:VEVENT
BEGIN:VEVENT
DTSTART;TZID=America/New_York:20240223T053000
DTEND;TZID=America/New_York:20240223T061500
DTSTAMP:20260422T101727
CREATED:20240130T231158Z
LAST-MODIFIED:20240130T231158Z
UID:83892-1708666200-1708668900@katzjcc.org
SUMMARY:Mat Pilates
DESCRIPTION:Tone muscles\, develop core strength and stability 
URL:https://katzjcc.org/event/mat-pilates-98/
LOCATION:J360 Studio
CATEGORIES:ALL Fitness & Wellness,Fitness & Wellness: Hybrid (Virtual/In-Person) Class
ATTACH;FMTTYPE=image/jpeg:https://katzjcc.org/wp-content/uploads/2022/12/featured-image.jpg
END:VEVENT
END:VCALENDAR