BEGIN:VCALENDAR
VERSION:2.0
PRODID:-//Katz JCC - ECPv6.15.17.1//NONSGML v1.0//EN
CALSCALE:GREGORIAN
METHOD:PUBLISH
X-ORIGINAL-URL:https://katzjcc.org
X-WR-CALDESC:Events for Katz JCC
REFRESH-INTERVAL;VALUE=DURATION:PT1H
X-Robots-Tag:noindex
X-PUBLISHED-TTL:PT1H
BEGIN:VTIMEZONE
TZID:America/New_York
BEGIN:DAYLIGHT
TZOFFSETFROM:-0500
TZOFFSETTO:-0400
TZNAME:EDT
DTSTART:20250309T070000
END:DAYLIGHT
BEGIN:STANDARD
TZOFFSETFROM:-0400
TZOFFSETTO:-0500
TZNAME:EST
DTSTART:20251102T060000
END:STANDARD
BEGIN:DAYLIGHT
TZOFFSETFROM:-0500
TZOFFSETTO:-0400
TZNAME:EDT
DTSTART:20260308T070000
END:DAYLIGHT
BEGIN:STANDARD
TZOFFSETFROM:-0400
TZOFFSETTO:-0500
TZNAME:EST
DTSTART:20261101T060000
END:STANDARD
BEGIN:DAYLIGHT
TZOFFSETFROM:-0500
TZOFFSETTO:-0400
TZNAME:EDT
DTSTART:20270314T070000
END:DAYLIGHT
BEGIN:STANDARD
TZOFFSETFROM:-0400
TZOFFSETTO:-0500
TZNAME:EST
DTSTART:20271107T060000
END:STANDARD
END:VTIMEZONE
BEGIN:VEVENT
DTSTART;TZID=America/New_York:20260113T054500
DTEND;TZID=America/New_York:20260113T064500
DTSTAMP:20260419T090725
CREATED:20251229T221235Z
LAST-MODIFIED:20260305T173403Z
UID:96770-1768283100-1768286700@katzjcc.org
SUMMARY:Strength & HIIT
DESCRIPTION:Experience the ultimate fusion of strength training & high-intensity interval training (HIIT) in our dynamic group fitness class. This class is designed to challenge your body in new ways\, combining the muscle-building benefits of strength training with the calorie-burning intensity of HIIT for a total body workout that will leave you feeling stronger and more energized.
URL:https://katzjcc.org/event/strength-hiit-164/
LOCATION:J360 Studio
CATEGORIES:ALL Fitness & Wellness,Fitness & Wellness: Indoor Class
ATTACH;FMTTYPE=image/jpeg:https://katzjcc.org/wp-content/uploads/2022/12/featured-image.jpg
END:VEVENT
BEGIN:VEVENT
DTSTART;TZID=America/New_York:20260113T091500
DTEND;TZID=America/New_York:20260113T100000
DTSTAMP:20260419T090725
CREATED:20251229T221434Z
LAST-MODIFIED:20260305T173604Z
UID:96773-1768295700-1768298400@katzjcc.org
SUMMARY:Cycling
DESCRIPTION:Combination of drills\, challenges and training exercises with variations in speed and resistance on stationary bikes\, set to motivating music. Classes may feature interval\, strength\, endurance\, tempo or a mix\, so no two classes are identical. On-bike monitors can be used to track performance.
URL:https://katzjcc.org/event/cycling-879/
CATEGORIES:ALL Fitness & Wellness,Fitness & Wellness: Indoor Class
ATTACH;FMTTYPE=image/jpeg:https://katzjcc.org/wp-content/uploads/2022/12/featured-image.jpg
END:VEVENT
BEGIN:VEVENT
DTSTART;TZID=America/New_York:20260113T093000
DTEND;TZID=America/New_York:20260113T103000
DTSTAMP:20260419T090725
CREATED:20251229T221436Z
LAST-MODIFIED:20260305T173604Z
UID:96774-1768296600-1768300200@katzjcc.org
SUMMARY:Tai Chi
DESCRIPTION:Reduce stress\, improve balance\, blood pressure and bone density.
URL:https://katzjcc.org/event/tai-chi-539/
LOCATION:J360 Studio
CATEGORIES:ALL Fitness & Wellness,Fitness & Wellness: Indoor Class
ATTACH;FMTTYPE=image/jpeg:https://katzjcc.org/wp-content/uploads/2022/12/featured-image.jpg
END:VEVENT
BEGIN:VEVENT
DTSTART;TZID=America/New_York:20260113T110000
DTEND;TZID=America/New_York:20260113T120000
DTSTAMP:20260419T090725
CREATED:20251229T221439Z
LAST-MODIFIED:20260305T173604Z
UID:96777-1768302000-1768305600@katzjcc.org
SUMMARY:Tai Chi
DESCRIPTION:Reduce stress\, improve balance\, blood pressure and bone density.
URL:https://katzjcc.org/event/tai-chi-540/
LOCATION:JFlow Studio
CATEGORIES:ALL Fitness & Wellness,Fitness & Wellness: Indoor Class
ATTACH;FMTTYPE=image/jpeg:https://katzjcc.org/wp-content/uploads/2022/12/featured-image.jpg
END:VEVENT
BEGIN:VEVENT
DTSTART;TZID=America/New_York:20260113T120000
DTEND;TZID=America/New_York:20260113T124500
DTSTAMP:20260419T090725
CREATED:20251229T221634Z
LAST-MODIFIED:20260305T173805Z
UID:96778-1768305600-1768308300@katzjcc.org
SUMMARY:Find Your Center
DESCRIPTION:This is not your average core class. It is not about crunches and planks. This class is designed to bring awareness and control to your abdominals to help with your everyday life
URL:https://katzjcc.org/event/find-your-center-18/
LOCATION:J360 Studio
CATEGORIES:ALL Fitness & Wellness,Fitness & Wellness: Indoor Class
ATTACH;FMTTYPE=image/jpeg:https://katzjcc.org/wp-content/uploads/2022/12/featured-image.jpg
END:VEVENT
BEGIN:VEVENT
DTSTART;TZID=America/New_York:20260113T121500
DTEND;TZID=America/New_York:20260113T131500
DTSTAMP:20260419T090725
CREATED:20251229T221635Z
LAST-MODIFIED:20260305T173806Z
UID:96779-1768306500-1768310100@katzjcc.org
SUMMARY:Slow Flow Yoga
DESCRIPTION:All level vinyasa style yoga\, slightly slowed down to focus on stretches and mind\, body and spirit.
URL:https://katzjcc.org/event/slow-flow-yoga-287/
LOCATION:JFlow Studio
CATEGORIES:ALL Fitness & Wellness,Fitness & Wellness: Indoor Class
ATTACH;FMTTYPE=image/jpeg:https://katzjcc.org/wp-content/uploads/2022/12/featured-image.jpg
END:VEVENT
BEGIN:VEVENT
DTSTART;TZID=America/New_York:20260113T130000
DTEND;TZID=America/New_York:20260113T134500
DTSTAMP:20260419T090725
CREATED:20251229T221635Z
LAST-MODIFIED:20260305T173806Z
UID:96780-1768309200-1768311900@katzjcc.org
SUMMARY:Chair Flow Yoga
DESCRIPTION:Chair yoga is a practice that is beneficial to all. In these classes you will use the support of the chair to arrive in yoga poses\, move\, breathe & ultimately feel good!
URL:https://katzjcc.org/event/chair-flow-yoga-40/
LOCATION:J360 Studio
CATEGORIES:ALL Fitness & Wellness,Fitness & Wellness: Indoor Class
ATTACH;FMTTYPE=image/jpeg:https://katzjcc.org/wp-content/uploads/2022/12/featured-image.jpg
END:VEVENT
BEGIN:VEVENT
DTSTART;TZID=America/New_York:20260113T170000
DTEND;TZID=America/New_York:20260113T174500
DTSTAMP:20260419T090725
CREATED:20251229T221636Z
LAST-MODIFIED:20260305T173806Z
UID:96781-1768323600-1768326300@katzjcc.org
SUMMARY:Spin & Sculpt
DESCRIPTION:A combination of cycling\, mixed with using light hand weights to tone upper body during class.
URL:https://katzjcc.org/event/spin-sculpt-191/
CATEGORIES:ALL Fitness & Wellness,Fitness & Wellness: Indoor Class
ATTACH;FMTTYPE=image/jpeg:https://katzjcc.org/wp-content/uploads/2022/12/featured-image.jpg
END:VEVENT
BEGIN:VEVENT
DTSTART;TZID=America/New_York:20260113T180000
DTEND;TZID=America/New_York:20260113T184500
DTSTAMP:20260419T090725
CREATED:20251229T221637Z
LAST-MODIFIED:20260305T173807Z
UID:96782-1768327200-1768329900@katzjcc.org
SUMMARY:Spin & Sculpt
DESCRIPTION:A combination of cycling\, mixed with using light hand weights to tone upper body during class.
URL:https://katzjcc.org/event/spin-sculpt-192/
CATEGORIES:ALL Fitness & Wellness,Fitness & Wellness: Indoor Class
ATTACH;FMTTYPE=image/jpeg:https://katzjcc.org/wp-content/uploads/2022/12/featured-image.jpg
END:VEVENT
BEGIN:VEVENT
DTSTART;TZID=America/New_York:20260113T190000
DTEND;TZID=America/New_York:20260113T194500
DTSTAMP:20260419T090725
CREATED:20251229T221835Z
LAST-MODIFIED:20260305T174006Z
UID:96784-1768330800-1768333500@katzjcc.org
SUMMARY:Les Mills Body Pump
DESCRIPTION:Les Mills’ original barbell class supplies a full body workout\, choreographed to great music. Use light plates and high repetitions to train each muscle group in this fat burning weight training class.
URL:https://katzjcc.org/event/les-mills-body-pump-188/
LOCATION:J360 Studio
CATEGORIES:ALL Fitness & Wellness,Fitness & Wellness: Indoor Class
ATTACH;FMTTYPE=image/jpeg:https://katzjcc.org/wp-content/uploads/2022/12/featured-image.jpg
END:VEVENT
BEGIN:VEVENT
DTSTART;TZID=America/New_York:20260113T190500
DTEND;TZID=America/New_York:20260113T195000
DTSTAMP:20260419T090725
CREATED:20251229T221835Z
LAST-MODIFIED:20260305T174006Z
UID:96785-1768331100-1768333800@katzjcc.org
SUMMARY:Mat Pilates
DESCRIPTION:Tone muscles\, develop core strength and stability 
URL:https://katzjcc.org/event/mat-pilates-407/
CATEGORIES:ALL Fitness & Wellness,Fitness & Wellness: Indoor Class
ATTACH;FMTTYPE=image/jpeg:https://katzjcc.org/wp-content/uploads/2022/12/featured-image.jpg
END:VEVENT
END:VCALENDAR