BEGIN:VCALENDAR
VERSION:2.0
PRODID:-//Katz JCC - ECPv6.15.20//NONSGML v1.0//EN
CALSCALE:GREGORIAN
METHOD:PUBLISH
X-ORIGINAL-URL:https://katzjcc.org
X-WR-CALDESC:Events for Katz JCC
REFRESH-INTERVAL;VALUE=DURATION:PT1H
X-Robots-Tag:noindex
X-PUBLISHED-TTL:PT1H
BEGIN:VTIMEZONE
TZID:America/New_York
BEGIN:DAYLIGHT
TZOFFSETFROM:-0500
TZOFFSETTO:-0400
TZNAME:EDT
DTSTART:20250309T070000
END:DAYLIGHT
BEGIN:STANDARD
TZOFFSETFROM:-0400
TZOFFSETTO:-0500
TZNAME:EST
DTSTART:20251102T060000
END:STANDARD
BEGIN:DAYLIGHT
TZOFFSETFROM:-0500
TZOFFSETTO:-0400
TZNAME:EDT
DTSTART:20260308T070000
END:DAYLIGHT
BEGIN:STANDARD
TZOFFSETFROM:-0400
TZOFFSETTO:-0500
TZNAME:EST
DTSTART:20261101T060000
END:STANDARD
BEGIN:DAYLIGHT
TZOFFSETFROM:-0500
TZOFFSETTO:-0400
TZNAME:EDT
DTSTART:20270314T070000
END:DAYLIGHT
BEGIN:STANDARD
TZOFFSETFROM:-0400
TZOFFSETTO:-0500
TZNAME:EST
DTSTART:20271107T060000
END:STANDARD
END:VTIMEZONE
BEGIN:VEVENT
DTSTART;TZID=America/New_York:20260403T053000
DTEND;TZID=America/New_York:20260403T061500
DTSTAMP:20260420T111016
CREATED:20260402T040435Z
LAST-MODIFIED:20260402T040435Z
UID:98081-1775194200-1775196900@katzjcc.org
SUMMARY:Barbells & Dumbbells
DESCRIPTION:Full body strengthening class utilizing barbells & dumbbells
URL:https://katzjcc.org/event/barbells-dumbbells-58/
LOCATION:J360 Studio
CATEGORIES:ALL Fitness & Wellness,Fitness & Wellness: Indoor Class
ATTACH;FMTTYPE=image/jpeg:https://katzjcc.org/wp-content/uploads/2022/12/featured-image.jpg
END:VEVENT
BEGIN:VEVENT
DTSTART;TZID=America/New_York:20260403T073000
DTEND;TZID=America/New_York:20260403T081500
DTSTAMP:20260420T111016
CREATED:20260402T040435Z
LAST-MODIFIED:20260402T040435Z
UID:98082-1775201400-1775204100@katzjcc.org
SUMMARY:Cardio & Core
DESCRIPTION:This class will get your heart rate up as well as work the core muscles
URL:https://katzjcc.org/event/cardio-core-10/
LOCATION:J360 Studio
CATEGORIES:ALL Fitness & Wellness,Fitness & Wellness: Indoor Class
ATTACH;FMTTYPE=image/jpeg:https://katzjcc.org/wp-content/uploads/2022/12/featured-image.jpg
END:VEVENT
BEGIN:VEVENT
DTSTART;TZID=America/New_York:20260403T080000
DTEND;TZID=America/New_York:20260403T084500
DTSTAMP:20260420T111016
CREATED:20260402T040436Z
LAST-MODIFIED:20260402T040436Z
UID:98083-1775203200-1775205900@katzjcc.org
SUMMARY:Breath & Balance
DESCRIPTION:Enjoy a slow\, relaxing vinyasa flow.
URL:https://katzjcc.org/event/breath-balance-58/
LOCATION:JFlow Studio
CATEGORIES:ALL Fitness & Wellness,Fitness & Wellness: Indoor Class
ATTACH;FMTTYPE=image/jpeg:https://katzjcc.org/wp-content/uploads/2022/12/featured-image.jpg
END:VEVENT
BEGIN:VEVENT
DTSTART;TZID=America/New_York:20260403T083000
DTEND;TZID=America/New_York:20260403T090000
DTSTAMP:20260420T111016
CREATED:20260402T040436Z
LAST-MODIFIED:20260402T040436Z
UID:98084-1775205000-1775206800@katzjcc.org
SUMMARY:Express Cycling
DESCRIPTION:Combination of drills\, challenges and training exercises with variations in speed and resistance on stationary bikes\, set to motivating music. Classes may feature interval\, strength\, endurance\, tempo or a mix\, so no two classes are identical. On-bike monitors can be used to track performance.
URL:https://katzjcc.org/event/express-cycling-376/
CATEGORIES:ALL Fitness & Wellness,Fitness & Wellness: Indoor Class
ATTACH;FMTTYPE=image/jpeg:https://katzjcc.org/wp-content/uploads/2022/12/featured-image.jpg
END:VEVENT
BEGIN:VEVENT
DTSTART;TZID=America/New_York:20260403T083000
DTEND;TZID=America/New_York:20260403T090000
DTSTAMP:20260420T111016
CREATED:20260402T040438Z
LAST-MODIFIED:20260402T040438Z
UID:98085-1775205000-1775206800@katzjcc.org
SUMMARY:Les Mills Core
DESCRIPTION:This program hones in on the torso and sling muscles that connect your upper body to your lower body.  It’s ideal for tightening your tummy and butt as well as improving functional strength.
URL:https://katzjcc.org/event/les-mills-core-168/
LOCATION:J360 Studio
CATEGORIES:ALL Fitness & Wellness,Fitness & Wellness: Indoor Class
ATTACH;FMTTYPE=image/jpeg:https://katzjcc.org/wp-content/uploads/2022/12/featured-image.jpg
END:VEVENT
BEGIN:VEVENT
DTSTART;TZID=America/New_York:20260403T091500
DTEND;TZID=America/New_York:20260403T100000
DTSTAMP:20260420T111016
CREATED:20260402T040438Z
LAST-MODIFIED:20260402T040438Z
UID:98086-1775207700-1775210400@katzjcc.org
SUMMARY:BodyPump
DESCRIPTION:es Mills’ original barbell class supplies a full body workout\, choreographed to great music. Use light plates and high repetitions to train each muscle group in this fat burning weight training class
URL:https://katzjcc.org/event/bodypump-34/
LOCATION:J360 Studio
CATEGORIES:ALL Fitness & Wellness,Fitness & Wellness: Indoor Class
ATTACH;FMTTYPE=image/jpeg:https://katzjcc.org/wp-content/uploads/2022/12/featured-image.jpg
END:VEVENT
BEGIN:VEVENT
DTSTART;TZID=America/New_York:20260403T091500
DTEND;TZID=America/New_York:20260403T101500
DTSTAMP:20260420T111016
CREATED:20260402T040438Z
LAST-MODIFIED:20260402T040438Z
UID:98087-1775207700-1775211300@katzjcc.org
SUMMARY:Zen Fit Bootcamp
DESCRIPTION:An athletic workout combining high intensity vinyasa yoga with cardio\, light weights and core focus. Get the best of both worlds with a challenging workout and a chill mental state
URL:https://katzjcc.org/event/zen-fit-bootcamp-102/
LOCATION:JFlow Studio
CATEGORIES:ALL Fitness & Wellness,Fitness & Wellness: Hybrid (Virtual/In-Person) Class
ATTACH;FMTTYPE=image/jpeg:https://katzjcc.org/wp-content/uploads/2022/12/featured-image.jpg
END:VEVENT
BEGIN:VEVENT
DTSTART;TZID=America/New_York:20260403T094500
DTEND;TZID=America/New_York:20260403T104500
DTSTAMP:20260420T111016
CREATED:20260402T040439Z
LAST-MODIFIED:20260402T040439Z
UID:98088-1775209500-1775213100@katzjcc.org
SUMMARY:Gentle Alignment Yoga
DESCRIPTION:Create a deeper sense of self-awareness and re-charge your body-mind connection as you connect through breath and physical sensation. Longer holds in postures and healing intentions are features of this practice that may use blocks\, straps\, and bolsters
URL:https://katzjcc.org/event/gentle-alignment-yoga-101/
CATEGORIES:ALL Fitness & Wellness,Fitness & Wellness: Indoor Class
ATTACH;FMTTYPE=image/jpeg:https://katzjcc.org/wp-content/uploads/2022/12/featured-image.jpg
END:VEVENT
BEGIN:VEVENT
DTSTART;TZID=America/New_York:20260403T100000
DTEND;TZID=America/New_York:20260403T104500
DTSTAMP:20260420T111016
CREATED:20260402T040439Z
LAST-MODIFIED:20260402T040439Z
UID:98089-1775210400-1775213100@katzjcc.org
SUMMARY:Walk This Way
DESCRIPTION:A full body class walking the track and utilizing different forms of equipment. Muscle strength & endurance\, balance & cardio will be the focus of this fun\, energizing class
URL:https://katzjcc.org/event/walk-this-way-89/
CATEGORIES:ALL Fitness & Wellness,Fitness & Wellness: Indoor Class
ATTACH;FMTTYPE=image/jpeg:https://katzjcc.org/wp-content/uploads/2022/12/featured-image.jpg
END:VEVENT
BEGIN:VEVENT
DTSTART;TZID=America/New_York:20260403T101500
DTEND;TZID=America/New_York:20260403T110000
DTSTAMP:20260420T111016
CREATED:20260402T040639Z
LAST-MODIFIED:20260402T040639Z
UID:98090-1775211300-1775214000@katzjcc.org
SUMMARY:Forever Fit
DESCRIPTION:Take your fitness up a notch with this next level chair fitness class. This low intensity workout combines cardio\, strength and flexibility. This class will utilize the chair for a portion as well as standing exercises to start to work on balance
URL:https://katzjcc.org/event/forever-fit-107/
LOCATION:J360 Studio
CATEGORIES:ALL Fitness & Wellness,Fitness & Wellness: Indoor Class
ATTACH;FMTTYPE=image/jpeg:https://katzjcc.org/wp-content/uploads/2022/12/featured-image.jpg
END:VEVENT
BEGIN:VEVENT
DTSTART;TZID=America/New_York:20260403T103000
DTEND;TZID=America/New_York:20260403T111500
DTSTAMP:20260420T111016
CREATED:20260402T040639Z
LAST-MODIFIED:20260402T040639Z
UID:98091-1775212200-1775214900@katzjcc.org
SUMMARY:Mat Pilates
DESCRIPTION:Tone muscles\, develop core strength and stability 
URL:https://katzjcc.org/event/mat-pilates-458/
LOCATION:J360 Studio
CATEGORIES:ALL Fitness & Wellness,Fitness & Wellness: Hybrid (Virtual/In-Person) Class
ATTACH;FMTTYPE=image/jpeg:https://katzjcc.org/wp-content/uploads/2022/12/featured-image.jpg
END:VEVENT
BEGIN:VEVENT
DTSTART;TZID=America/New_York:20260403T113000
DTEND;TZID=America/New_York:20260403T123000
DTSTAMP:20260420T111016
CREATED:20260402T040639Z
LAST-MODIFIED:20260402T040639Z
UID:98092-1775215800-1775219400@katzjcc.org
SUMMARY:Let's Dance
DESCRIPTION:45 minutes of dancing & fun to music from the 50s to the 70s with choreography made simple\, easy to learn\, and fun to perform in class! Intro level class. This class is designed as a 6 week series so participants learn the choreography step by step to incorportate to a full routine by the end of the 6 weeks.
URL:https://katzjcc.org/event/lets-dance-50/
LOCATION:JFlow Studio
CATEGORIES:ALL Fitness & Wellness,Fitness & Wellness: Indoor Class
ATTACH;FMTTYPE=image/jpeg:https://katzjcc.org/wp-content/uploads/2022/12/featured-image.jpg
END:VEVENT
BEGIN:VEVENT
DTSTART;TZID=America/New_York:20260403T113000
DTEND;TZID=America/New_York:20260403T123000
DTSTAMP:20260420T111016
CREATED:20260402T040640Z
LAST-MODIFIED:20260402T040640Z
UID:98093-1775215800-1775219400@katzjcc.org
SUMMARY:Mindful Movement Yoga
DESCRIPTION:Connecting mind & body with breathing techniques for a tranquil experience.
URL:https://katzjcc.org/event/mindful-movement-yoga-179/
LOCATION:J360 Studio
CATEGORIES:ALL Fitness & Wellness,Fitness & Wellness: Indoor Class
ATTACH;FMTTYPE=image/jpeg:https://katzjcc.org/wp-content/uploads/2022/12/featured-image.jpg
END:VEVENT
BEGIN:VEVENT
DTSTART;TZID=America/New_York:20260403T124500
DTEND;TZID=America/New_York:20260403T133000
DTSTAMP:20260420T111016
CREATED:20260402T040640Z
LAST-MODIFIED:20260402T040640Z
UID:98094-1775220300-1775223000@katzjcc.org
SUMMARY:Barre Aligned
DESCRIPTION:A moderate intensity class for all levels that blends the sculpting and toning of traditional barre with a focus on alignment\, balance\, and mindful technique.  Through controlled movements\, isometric holds\, and light weights\, you’ll strengthen your core\, refine posture\, and challenge stability
URL:https://katzjcc.org/event/barre-aligned-10/
LOCATION:JFlow Studio
CATEGORIES:ALL Fitness & Wellness,Fitness & Wellness: Indoor Class
ATTACH;FMTTYPE=image/jpeg:https://katzjcc.org/wp-content/uploads/2022/12/featured-image.jpg
END:VEVENT
BEGIN:VEVENT
DTSTART;TZID=America/New_York:20260403T131500
DTEND;TZID=America/New_York:20260403T140000
DTSTAMP:20260420T111016
CREATED:20260402T040838Z
LAST-MODIFIED:20260402T040838Z
UID:98095-1775222100-1775224800@katzjcc.org
SUMMARY:Fit for Life
DESCRIPTION:Utilizing a chair\, bands\, balls\, and light weights to build strength & exercises for balance
URL:https://katzjcc.org/event/fit-for-life-140/
LOCATION:J360 Studio
CATEGORIES:ALL Fitness & Wellness,Fitness & Wellness: Indoor Class
ATTACH;FMTTYPE=image/jpeg:https://katzjcc.org/wp-content/uploads/2022/12/featured-image.jpg
END:VEVENT
BEGIN:VEVENT
DTSTART;TZID=America/New_York:20260403T141500
DTEND;TZID=America/New_York:20260403T151500
DTSTAMP:20260420T111016
CREATED:20260402T040839Z
LAST-MODIFIED:20260402T040839Z
UID:98096-1775225700-1775229300@katzjcc.org
SUMMARY:Line Dancing
DESCRIPTION:This class is a choreographed program that provides a well-rounded exercise experience while having fun with a group.
URL:https://katzjcc.org/event/line-dancing-103/
LOCATION:J360 Studio
CATEGORIES:ALL Fitness & Wellness,Fitness & Wellness: Indoor Class
ATTACH;FMTTYPE=image/jpeg:https://katzjcc.org/wp-content/uploads/2022/12/featured-image.jpg
END:VEVENT
END:VCALENDAR