BEGIN:VCALENDAR
VERSION:2.0
PRODID:-//Katz JCC - ECPv6.15.20//NONSGML v1.0//EN
CALSCALE:GREGORIAN
METHOD:PUBLISH
X-ORIGINAL-URL:https://katzjcc.org
X-WR-CALDESC:Events for Katz JCC
REFRESH-INTERVAL;VALUE=DURATION:PT1H
X-Robots-Tag:noindex
X-PUBLISHED-TTL:PT1H
BEGIN:VTIMEZONE
TZID:America/New_York
BEGIN:DAYLIGHT
TZOFFSETFROM:-0500
TZOFFSETTO:-0400
TZNAME:EDT
DTSTART:20250309T070000
END:DAYLIGHT
BEGIN:STANDARD
TZOFFSETFROM:-0400
TZOFFSETTO:-0500
TZNAME:EST
DTSTART:20251102T060000
END:STANDARD
BEGIN:DAYLIGHT
TZOFFSETFROM:-0500
TZOFFSETTO:-0400
TZNAME:EDT
DTSTART:20260308T070000
END:DAYLIGHT
BEGIN:STANDARD
TZOFFSETFROM:-0400
TZOFFSETTO:-0500
TZNAME:EST
DTSTART:20261101T060000
END:STANDARD
BEGIN:DAYLIGHT
TZOFFSETFROM:-0500
TZOFFSETTO:-0400
TZNAME:EDT
DTSTART:20270314T070000
END:DAYLIGHT
BEGIN:STANDARD
TZOFFSETFROM:-0400
TZOFFSETTO:-0500
TZNAME:EST
DTSTART:20271107T060000
END:STANDARD
END:VTIMEZONE
BEGIN:VEVENT
DTSTART;TZID=America/New_York:20260330T093000
DTEND;TZID=America/New_York:20260330T101500
DTSTAMP:20260422T085311
CREATED:20260305T213147Z
LAST-MODIFIED:20260306T153122Z
UID:97302-1774863000-1774865700@katzjcc.org
SUMMARY:Les Mills Core
DESCRIPTION:Build strength\, stability and endurance in the muscles that support your core\, improve balance\, assist injury prevention\, and become better at everything you do.
URL:https://katzjcc.org/event/les-mills-core-163/
LOCATION:JFlow Studio
CATEGORIES:ALL Fitness & Wellness,Fitness & Wellness: Hybrid (Virtual/In-Person) Class
ATTACH;FMTTYPE=image/jpeg:https://katzjcc.org/wp-content/uploads/2022/12/featured-image.jpg
END:VEVENT
BEGIN:VEVENT
DTSTART;TZID=America/New_York:20260330T093000
DTEND;TZID=America/New_York:20260330T103000
DTSTAMP:20260422T085311
CREATED:20260305T213147Z
LAST-MODIFIED:20260306T153122Z
UID:97303-1774863000-1774866600@katzjcc.org
SUMMARY:Total Body Conditioning
DESCRIPTION:A multi-level full body workout that targets all of the major muscle groups. It is designed to contain challenging exercises that will increase strength & improve overall conditioning
URL:https://katzjcc.org/event/total-body-conditioning-210/
LOCATION:J360 Studio
CATEGORIES:ALL Fitness & Wellness,Fitness & Wellness: Hybrid (Virtual/In-Person) Class
ATTACH;FMTTYPE=image/jpeg:https://katzjcc.org/wp-content/uploads/2022/12/featured-image.jpg
END:VEVENT
BEGIN:VEVENT
DTSTART;TZID=America/New_York:20260330T100000
DTEND;TZID=America/New_York:20260330T104500
DTSTAMP:20260422T085311
CREATED:20260305T215250Z
LAST-MODIFIED:20260306T153122Z
UID:97304-1774864800-1774867500@katzjcc.org
SUMMARY:Mat Pilates
DESCRIPTION:Develop core strength and stability\, and challenge postural muscles. May use a variety of props or just a mat.
URL:https://katzjcc.org/event/mat-pilates-426/
CATEGORIES:ALL Fitness & Wellness,Fitness & Wellness: Indoor Class
ATTACH;FMTTYPE=image/jpeg:https://katzjcc.org/wp-content/uploads/2022/12/featured-image.jpg
END:VEVENT
BEGIN:VEVENT
DTSTART;TZID=America/New_York:20260330T103000
DTEND;TZID=America/New_York:20260330T111500
DTSTAMP:20260422T085311
CREATED:20260305T215251Z
LAST-MODIFIED:20260306T153130Z
UID:97305-1774866600-1774869300@katzjcc.org
SUMMARY:Les Mills Bodybalance
DESCRIPTION:Bend & stretch through a series of simple yoga moves\, elements of Tai Chi and Pilates. Breathing control is a part of all the exercises.
URL:https://katzjcc.org/event/les-mills-bodybalance-121/
LOCATION:JFlow Studio
CATEGORIES:ALL Fitness & Wellness,Fitness & Wellness: Indoor Class
ATTACH;FMTTYPE=image/jpeg:https://katzjcc.org/wp-content/uploads/2022/12/featured-image.jpg
END:VEVENT
BEGIN:VEVENT
DTSTART;TZID=America/New_York:20260330T104500
DTEND;TZID=America/New_York:20260330T113000
DTSTAMP:20260422T085311
CREATED:20260305T215252Z
LAST-MODIFIED:20260306T153130Z
UID:97306-1774867500-1774870200@katzjcc.org
SUMMARY:Be Fit Combo
DESCRIPTION:Heart-healthy\, low impact exercises energize your active lifestyle. Focus on building upper body and core strength as well as cardiovascular endurance by way of low weight\, high repetition resistance moves.
URL:https://katzjcc.org/event/be-fit-combo-204/
LOCATION:J360 Studio
CATEGORIES:ALL Fitness & Wellness,Fitness & Wellness: Indoor Class
ATTACH;FMTTYPE=image/jpeg:https://katzjcc.org/wp-content/uploads/2022/12/featured-image.jpg
END:VEVENT
BEGIN:VEVENT
DTSTART;TZID=America/New_York:20260330T104500
DTEND;TZID=America/New_York:20260330T113000
DTSTAMP:20260422T085311
CREATED:20260305T215253Z
LAST-MODIFIED:20260306T153130Z
UID:97307-1774867500-1774870200@katzjcc.org
SUMMARY:Walk This Way
DESCRIPTION:A full body class walking the track and utilizing different forms of equipment. Muscle strength & endurance\, balance & cardio will be the focus of this fun\, energizing class
URL:https://katzjcc.org/event/walk-this-way-80/
CATEGORIES:ALL Fitness & Wellness,Fitness & Wellness: Indoor Class
ATTACH;FMTTYPE=image/jpeg:https://katzjcc.org/wp-content/uploads/2022/12/featured-image.jpg
END:VEVENT
BEGIN:VEVENT
DTSTART;TZID=America/New_York:20260330T113500
DTEND;TZID=America/New_York:20260330T122000
DTSTAMP:20260422T085311
CREATED:20260305T215447Z
LAST-MODIFIED:20260306T153131Z
UID:97309-1774870500-1774873200@katzjcc.org
SUMMARY:Barre Stretch
DESCRIPTION:Barre meets the mat. Strength endurance exercises mixed with core and stability focused mat work\, add in extra mobility work and stretching and you’ve got the perfect injury-prevention and recovery workout. What a great way to start your week and set an intention!
URL:https://katzjcc.org/event/barre-stretch-103/
LOCATION:J360 Studio
CATEGORIES:ALL Fitness & Wellness,Fitness & Wellness: Indoor Class
ATTACH;FMTTYPE=image/jpeg:https://katzjcc.org/wp-content/uploads/2022/12/featured-image.jpg
END:VEVENT
BEGIN:VEVENT
DTSTART;TZID=America/New_York:20260330T114500
DTEND;TZID=America/New_York:20260330T124500
DTSTAMP:20260422T085311
CREATED:20260305T215254Z
LAST-MODIFIED:20260306T153131Z
UID:97308-1774871100-1774874700@katzjcc.org
SUMMARY:Barre Intensity
DESCRIPTION:Barre intensity is a cross-disciplined style workout that combines attributes of Pilates\, dance and functional fitness
URL:https://katzjcc.org/event/barre-intensity-249/
LOCATION:JFlow Studio
CATEGORIES:ALL Fitness & Wellness,Fitness & Wellness: Hybrid (Virtual/In-Person) Class
ATTACH;FMTTYPE=image/jpeg:https://katzjcc.org/wp-content/uploads/2022/12/featured-image.jpg
END:VEVENT
BEGIN:VEVENT
DTSTART;TZID=America/New_York:20260330T130000
DTEND;TZID=America/New_York:20260330T140000
DTSTAMP:20260422T085311
CREATED:20260305T215448Z
LAST-MODIFIED:20260306T153139Z
UID:97310-1774875600-1774879200@katzjcc.org
SUMMARY:Tai Chi
DESCRIPTION:A holistic system of coordinated body postures plus movement\, breathing and meditation.
URL:https://katzjcc.org/event/tai-chi-556/
LOCATION:JFlow Studio
CATEGORIES:ALL Fitness & Wellness,Fitness & Wellness: Indoor Class
ATTACH;FMTTYPE=image/jpeg:https://katzjcc.org/wp-content/uploads/2022/12/featured-image.jpg
END:VEVENT
BEGIN:VEVENT
DTSTART;TZID=America/New_York:20260330T130000
DTEND;TZID=America/New_York:20260330T140000
DTSTAMP:20260422T085311
CREATED:20260305T215449Z
LAST-MODIFIED:20260306T153139Z
UID:97311-1774875600-1774879200@katzjcc.org
SUMMARY:Strength & Balance
DESCRIPTION:Warmup followed by strength utilizing both weights and exercise bands. Balance practice both stationery and walking ending with stretch.
URL:https://katzjcc.org/event/strength-balance-213/
LOCATION:J360 Studio
CATEGORIES:ALL Fitness & Wellness,Fitness & Wellness: Hybrid (Virtual/In-Person) Class
ATTACH;FMTTYPE=image/jpeg:https://katzjcc.org/wp-content/uploads/2022/12/featured-image.jpg
END:VEVENT
BEGIN:VEVENT
DTSTART;TZID=America/New_York:20260330T170000
DTEND;TZID=America/New_York:20260330T174500
DTSTAMP:20260422T085311
CREATED:20260305T215450Z
LAST-MODIFIED:20260306T153139Z
UID:97312-1774890000-1774892700@katzjcc.org
SUMMARY:Spin & Sculpt
DESCRIPTION:A combination of cycling\, mixed with using light hand weights to tone upper body during class.
URL:https://katzjcc.org/event/spin-sculpt-201/
CATEGORIES:ALL Fitness & Wellness,Fitness & Wellness: Indoor Class
ATTACH;FMTTYPE=image/jpeg:https://katzjcc.org/wp-content/uploads/2022/12/featured-image.jpg
END:VEVENT
BEGIN:VEVENT
DTSTART;TZID=America/New_York:20260330T181500
DTEND;TZID=America/New_York:20260330T190000
DTSTAMP:20260422T085311
CREATED:20260305T215451Z
LAST-MODIFIED:20260306T153140Z
UID:97313-1774894500-1774897200@katzjcc.org
SUMMARY:Zumba
DESCRIPTION:A combination of high energy fitness moves and Latin style dance to Latin music.
URL:https://katzjcc.org/event/zumba-621/
LOCATION:J360 Studio
CATEGORIES:ALL Fitness & Wellness,Fitness & Wellness: Indoor Class
ATTACH;FMTTYPE=image/jpeg:https://katzjcc.org/wp-content/uploads/2022/12/featured-image.jpg
END:VEVENT
BEGIN:VEVENT
DTSTART;TZID=America/New_York:20260330T181500
DTEND;TZID=America/New_York:20260330T190000
DTSTAMP:20260422T085311
CREATED:20260305T215647Z
LAST-MODIFIED:20260306T153140Z
UID:97314-1774894500-1774897200@katzjcc.org
SUMMARY:Barre Above
DESCRIPTION:Full body fusion workout with influences from ballet\, yoga\, Pilates and more. Use a variety of equipment to focus on large and small movements that challenge your muscular endurance\, balance\, core strength and postural alignment with low to no impact.
URL:https://katzjcc.org/event/barre-above-497/
LOCATION:JFlow Studio
CATEGORIES:ALL Fitness & Wellness,Fitness & Wellness: Hybrid (Virtual/In-Person) Class
ATTACH;FMTTYPE=image/jpeg:https://katzjcc.org/wp-content/uploads/2022/12/featured-image.jpg
END:VEVENT
BEGIN:VEVENT
DTSTART;TZID=America/New_York:20260330T191500
DTEND;TZID=America/New_York:20260330T200000
DTSTAMP:20260422T085311
CREATED:20260305T215648Z
LAST-MODIFIED:20260306T153156Z
UID:97315-1774898100-1774900800@katzjcc.org
SUMMARY:Warrior Combat
DESCRIPTION:WARRIOR Combat is boxing inspired\, powerful\, and fierce. It is for everybody and every BODY. WARRIOR Combat has two 30-minute sections. These sections are distinguished by timed intervals and moves synchronized to music. Both include boxing combinations\, HIIT training\, total body strength and aerobic conditioning. Have a set of dumbbells handy and get ready to feel like a confident badass!
URL:https://katzjcc.org/event/warrior-combat-63/
LOCATION:J360 Studio
CATEGORIES:ALL Fitness & Wellness,Fitness & Wellness: Indoor Class
ATTACH;FMTTYPE=image/jpeg:https://katzjcc.org/wp-content/uploads/2022/12/featured-image.jpg
END:VEVENT
BEGIN:VEVENT
DTSTART;TZID=America/New_York:20260331T054500
DTEND;TZID=America/New_York:20260331T064500
DTSTAMP:20260422T085311
CREATED:20260305T222125Z
LAST-MODIFIED:20260306T153429Z
UID:97384-1774935900-1774939500@katzjcc.org
SUMMARY:Strength & HIIT
DESCRIPTION:Experience the ultimate fusion of strength training & high-intensity interval training (HIIT) in our dynamic group fitness class. This class is designed to challenge your body in new ways\, combining the muscle-building benefits of strength training with the calorie-burning intensity of HIIT for a total body workout that will leave you feeling stronger and more energized.
URL:https://katzjcc.org/event/strength-hiit-176/
LOCATION:J360 Studio
CATEGORIES:ALL Fitness & Wellness,Fitness & Wellness: Indoor Class
ATTACH;FMTTYPE=image/jpeg:https://katzjcc.org/wp-content/uploads/2022/12/featured-image.jpg
END:VEVENT
BEGIN:VEVENT
DTSTART;TZID=America/New_York:20260331T071500
DTEND;TZID=America/New_York:20260331T081500
DTSTAMP:20260422T085311
CREATED:20260305T222126Z
LAST-MODIFIED:20260306T153429Z
UID:97385-1774941300-1774944900@katzjcc.org
SUMMARY:Zen Flow Yoga
DESCRIPTION:Awaken\, recharge and connect your mind-body together with a vinyasa flow and use of varying breath techniques.
URL:https://katzjcc.org/event/zen-flow-yoga-255/
LOCATION:JFlow Studio
CATEGORIES:ALL Fitness & Wellness,Fitness & Wellness: Hybrid (Virtual/In-Person) Class
ATTACH;FMTTYPE=image/jpeg:https://katzjcc.org/wp-content/uploads/2022/12/featured-image.jpg
END:VEVENT
BEGIN:VEVENT
DTSTART;TZID=America/New_York:20260331T081500
DTEND;TZID=America/New_York:20260331T090000
DTSTAMP:20260422T085311
CREATED:20260305T222126Z
LAST-MODIFIED:20260306T153430Z
UID:97386-1774944900-1774947600@katzjcc.org
SUMMARY:Sculpt & Tone
DESCRIPTION:An overall full body workout utilizing weights\, bands\, balls and more to strengthen and tone. All level workout.
URL:https://katzjcc.org/event/sculpt-tone-322/
LOCATION:J360 Studio
CATEGORIES:ALL Fitness & Wellness,Fitness & Wellness: Hybrid (Virtual/In-Person) Class
ATTACH;FMTTYPE=image/jpeg:https://katzjcc.org/wp-content/uploads/2022/12/featured-image.jpg
END:VEVENT
BEGIN:VEVENT
DTSTART;TZID=America/New_York:20260331T091500
DTEND;TZID=America/New_York:20260331T100000
DTSTAMP:20260422T085311
CREATED:20260305T222127Z
LAST-MODIFIED:20260306T153430Z
UID:97387-1774948500-1774951200@katzjcc.org
SUMMARY:Cycling
DESCRIPTION:Combination of drills\, challenges and training exercises with variations in speed and resistance on stationary bikes\, set to motivating music. Classes may feature interval\, strength\, endurance\, tempo or a mix\, so no two classes are identical. On-bike monitors can be used to track performance.
URL:https://katzjcc.org/event/cycling-900/
CATEGORIES:ALL Fitness & Wellness,Fitness & Wellness: Indoor Class
ATTACH;FMTTYPE=image/jpeg:https://katzjcc.org/wp-content/uploads/2022/12/featured-image.jpg
END:VEVENT
BEGIN:VEVENT
DTSTART;TZID=America/New_York:20260331T093000
DTEND;TZID=America/New_York:20260331T103000
DTSTAMP:20260422T085311
CREATED:20260305T222330Z
LAST-MODIFIED:20260306T153430Z
UID:97388-1774949400-1774953000@katzjcc.org
SUMMARY:Tai Chi
DESCRIPTION:Reduce stress\, improve balance\, blood pressure and bone density.
URL:https://katzjcc.org/event/tai-chi-565/
LOCATION:J360 Studio
CATEGORIES:ALL Fitness & Wellness,Fitness & Wellness: Indoor Class
ATTACH;FMTTYPE=image/jpeg:https://katzjcc.org/wp-content/uploads/2022/12/featured-image.jpg
END:VEVENT
BEGIN:VEVENT
DTSTART;TZID=America/New_York:20260331T093000
DTEND;TZID=America/New_York:20260331T103000
DTSTAMP:20260422T085311
CREATED:20260305T222332Z
LAST-MODIFIED:20260306T153432Z
UID:97389-1774949400-1774953000@katzjcc.org
SUMMARY:Barre Above
DESCRIPTION:Total body workout that will help build a strong core\, tone muscles\, improve flexibility and mental focus. 
URL:https://katzjcc.org/event/barre-above-502/
LOCATION:JFlow Studio
CATEGORIES:ALL Fitness & Wellness,Fitness & Wellness: Hybrid (Virtual/In-Person) Class
ATTACH;FMTTYPE=image/jpeg:https://katzjcc.org/wp-content/uploads/2022/12/featured-image.jpg
END:VEVENT
BEGIN:VEVENT
DTSTART;TZID=America/New_York:20260331T104500
DTEND;TZID=America/New_York:20260331T114500
DTSTAMP:20260422T085311
CREATED:20260305T222333Z
LAST-MODIFIED:20260306T153433Z
UID:97390-1774953900-1774957500@katzjcc.org
SUMMARY:Zumba
DESCRIPTION:A combination of high energy fitness moves and Latin style dance to Latin music.
URL:https://katzjcc.org/event/zumba-626/
LOCATION:J360 Studio
CATEGORIES:ALL Fitness & Wellness,Fitness & Wellness: Hybrid (Virtual/In-Person) Class
ATTACH;FMTTYPE=image/jpeg:https://katzjcc.org/wp-content/uploads/2022/12/featured-image.jpg
END:VEVENT
BEGIN:VEVENT
DTSTART;TZID=America/New_York:20260331T110000
DTEND;TZID=America/New_York:20260331T120000
DTSTAMP:20260422T085311
CREATED:20260305T222334Z
LAST-MODIFIED:20260306T153433Z
UID:97391-1774954800-1774958400@katzjcc.org
SUMMARY:Tai Chi
DESCRIPTION:Reduce stress\, improve balance\, blood pressure and bone density.
URL:https://katzjcc.org/event/tai-chi-566/
LOCATION:JFlow Studio
CATEGORIES:ALL Fitness & Wellness,Fitness & Wellness: Indoor Class
ATTACH;FMTTYPE=image/jpeg:https://katzjcc.org/wp-content/uploads/2022/12/featured-image.jpg
END:VEVENT
BEGIN:VEVENT
DTSTART;TZID=America/New_York:20260331T120000
DTEND;TZID=America/New_York:20260331T124500
DTSTAMP:20260422T085311
CREATED:20260305T222336Z
LAST-MODIFIED:20260306T153433Z
UID:97392-1774958400-1774961100@katzjcc.org
SUMMARY:Find Your Center
DESCRIPTION:This is not your average core class. It is not about crunches and planks. This class is designed to bring awareness and control to your abdominals to help with your everyday life
URL:https://katzjcc.org/event/find-your-center-25/
LOCATION:J360 Studio
CATEGORIES:ALL Fitness & Wellness,Fitness & Wellness: Indoor Class
ATTACH;FMTTYPE=image/jpeg:https://katzjcc.org/wp-content/uploads/2022/12/featured-image.jpg
END:VEVENT
BEGIN:VEVENT
DTSTART;TZID=America/New_York:20260331T121500
DTEND;TZID=America/New_York:20260331T131500
DTSTAMP:20260422T085311
CREATED:20260305T222528Z
LAST-MODIFIED:20260306T153433Z
UID:97393-1774959300-1774962900@katzjcc.org
SUMMARY:Slow Flow Yoga
DESCRIPTION:All level vinyasa style yoga\, slightly slowed down to focus on stretches and mind\, body and spirit.
URL:https://katzjcc.org/event/slow-flow-yoga-301/
LOCATION:JFlow Studio
CATEGORIES:ALL Fitness & Wellness,Fitness & Wellness: Indoor Class
ATTACH;FMTTYPE=image/jpeg:https://katzjcc.org/wp-content/uploads/2022/12/featured-image.jpg
END:VEVENT
BEGIN:VEVENT
DTSTART;TZID=America/New_York:20260331T130000
DTEND;TZID=America/New_York:20260331T134500
DTSTAMP:20260422T085311
CREATED:20260305T222529Z
LAST-MODIFIED:20260306T153446Z
UID:97394-1774962000-1774964700@katzjcc.org
SUMMARY:Chair Flow Yoga
DESCRIPTION:Chair yoga is a practice that is beneficial to all. In these classes you will use the support of the chair to arrive in yoga poses\, move\, breathe & ultimately feel good!
URL:https://katzjcc.org/event/chair-flow-yoga-47/
LOCATION:J360 Studio
CATEGORIES:ALL Fitness & Wellness,Fitness & Wellness: Indoor Class
ATTACH;FMTTYPE=image/jpeg:https://katzjcc.org/wp-content/uploads/2022/12/featured-image.jpg
END:VEVENT
BEGIN:VEVENT
DTSTART;TZID=America/New_York:20260331T170000
DTEND;TZID=America/New_York:20260331T174500
DTSTAMP:20260422T085311
CREATED:20260305T222530Z
LAST-MODIFIED:20260306T153447Z
UID:97395-1774976400-1774979100@katzjcc.org
SUMMARY:Spin & Sculpt
DESCRIPTION:A combination of cycling\, mixed with using light hand weights to tone upper body during class.
URL:https://katzjcc.org/event/spin-sculpt-209/
CATEGORIES:ALL Fitness & Wellness,Fitness & Wellness: Indoor Class
ATTACH;FMTTYPE=image/jpeg:https://katzjcc.org/wp-content/uploads/2022/12/featured-image.jpg
END:VEVENT
BEGIN:VEVENT
DTSTART;TZID=America/New_York:20260331T180000
DTEND;TZID=America/New_York:20260331T184500
DTSTAMP:20260422T085311
CREATED:20260305T222530Z
LAST-MODIFIED:20260306T153447Z
UID:97396-1774980000-1774982700@katzjcc.org
SUMMARY:Spin & Sculpt
DESCRIPTION:A combination of cycling\, mixed with using light hand weights to tone upper body during class.
URL:https://katzjcc.org/event/spin-sculpt-210/
CATEGORIES:ALL Fitness & Wellness,Fitness & Wellness: Indoor Class
ATTACH;FMTTYPE=image/jpeg:https://katzjcc.org/wp-content/uploads/2022/12/featured-image.jpg
END:VEVENT
BEGIN:VEVENT
DTSTART;TZID=America/New_York:20260331T180000
DTEND;TZID=America/New_York:20260331T190000
DTSTAMP:20260422T085311
CREATED:20260305T222531Z
LAST-MODIFIED:20260306T153447Z
UID:97397-1774980000-1774983600@katzjcc.org
SUMMARY:Stretch & Vinyasa Yoga
DESCRIPTION:Awaken\, recharge and connect your mind-body together with a vinyasa flow and use of varying breath techniques.
URL:https://katzjcc.org/event/stretch-vinyasa-yoga-102/
LOCATION:JFlow Studio
CATEGORIES:ALL Fitness & Wellness,Fitness & Wellness: Hybrid (Virtual/In-Person) Class
ATTACH;FMTTYPE=image/jpeg:https://katzjcc.org/wp-content/uploads/2022/12/featured-image.jpg
END:VEVENT
BEGIN:VEVENT
DTSTART;TZID=America/New_York:20260331T190000
DTEND;TZID=America/New_York:20260331T194500
DTSTAMP:20260422T085311
CREATED:20260305T222729Z
LAST-MODIFIED:20260306T153447Z
UID:97398-1774983600-1774986300@katzjcc.org
SUMMARY:Bodypump Heavy
DESCRIPTION:Bodypump Heavy uses compound exercises to build strength and muscle.  The focus is on heavy weights\, slow tempo and long rests.  It’s tempo based weightlifting that switches on your metabolic engine to build lean muscle like nothing else.
URL:https://katzjcc.org/event/bodypump-heavy-10/
LOCATION:J360 Studio
CATEGORIES:ALL Fitness & Wellness,Fitness & Wellness: Indoor Class
ATTACH;FMTTYPE=image/jpeg:https://katzjcc.org/wp-content/uploads/2022/12/featured-image.jpg
END:VEVENT
BEGIN:VEVENT
DTSTART;TZID=America/New_York:20260331T190500
DTEND;TZID=America/New_York:20260331T195000
DTSTAMP:20260422T085311
CREATED:20260305T222729Z
LAST-MODIFIED:20260306T153450Z
UID:97399-1774983900-1774986600@katzjcc.org
SUMMARY:Mat Pilates
DESCRIPTION:Tone muscles\, develop core strength and stability 
URL:https://katzjcc.org/event/mat-pilates-431/
CATEGORIES:ALL Fitness & Wellness,Fitness & Wellness: Indoor Class
ATTACH;FMTTYPE=image/jpeg:https://katzjcc.org/wp-content/uploads/2022/12/featured-image.jpg
END:VEVENT
END:VCALENDAR