BEGIN:VCALENDAR
VERSION:2.0
PRODID:-//Katz JCC - ECPv6.15.20//NONSGML v1.0//EN
CALSCALE:GREGORIAN
METHOD:PUBLISH
X-ORIGINAL-URL:https://katzjcc.org
X-WR-CALDESC:Events for Katz JCC
REFRESH-INTERVAL;VALUE=DURATION:PT1H
X-Robots-Tag:noindex
X-PUBLISHED-TTL:PT1H
BEGIN:VTIMEZONE
TZID:America/New_York
BEGIN:DAYLIGHT
TZOFFSETFROM:-0500
TZOFFSETTO:-0400
TZNAME:EDT
DTSTART:20250309T070000
END:DAYLIGHT
BEGIN:STANDARD
TZOFFSETFROM:-0400
TZOFFSETTO:-0500
TZNAME:EST
DTSTART:20251102T060000
END:STANDARD
BEGIN:DAYLIGHT
TZOFFSETFROM:-0500
TZOFFSETTO:-0400
TZNAME:EDT
DTSTART:20260308T070000
END:DAYLIGHT
BEGIN:STANDARD
TZOFFSETFROM:-0400
TZOFFSETTO:-0500
TZNAME:EST
DTSTART:20261101T060000
END:STANDARD
BEGIN:DAYLIGHT
TZOFFSETFROM:-0500
TZOFFSETTO:-0400
TZNAME:EDT
DTSTART:20270314T070000
END:DAYLIGHT
BEGIN:STANDARD
TZOFFSETFROM:-0400
TZOFFSETTO:-0500
TZNAME:EST
DTSTART:20271107T060000
END:STANDARD
END:VTIMEZONE
BEGIN:VEVENT
DTSTART;TZID=America/New_York:20260413T114500
DTEND;TZID=America/New_York:20260413T124500
DTSTAMP:20260420T141918
CREATED:20260401T165315Z
LAST-MODIFIED:20260401T223245Z
UID:97794-1776080700-1776084300@katzjcc.org
SUMMARY:Barre
DESCRIPTION:Barre intensity is a cross-disciplined style workout that combines attributes of Pilates\, dance and functional fitness
URL:https://katzjcc.org/event/barre-9/
LOCATION:JFlow Studio
CATEGORIES:ALL Fitness & Wellness,Fitness & Wellness: Hybrid (Virtual/In-Person) Class
ATTACH;FMTTYPE=image/jpeg:https://katzjcc.org/wp-content/uploads/2022/12/featured-image.jpg
END:VEVENT
BEGIN:VEVENT
DTSTART;TZID=America/New_York:20260413T130000
DTEND;TZID=America/New_York:20260413T140000
DTSTAMP:20260420T141918
CREATED:20260401T165316Z
LAST-MODIFIED:20260401T223245Z
UID:97796-1776085200-1776088800@katzjcc.org
SUMMARY:Tai Chi
DESCRIPTION:A holistic system of coordinated body postures plus movement\, breathing and meditation.
URL:https://katzjcc.org/event/tai-chi-576/
LOCATION:JFlow Studio
CATEGORIES:ALL Fitness & Wellness,Fitness & Wellness: Indoor Class
ATTACH;FMTTYPE=image/jpeg:https://katzjcc.org/wp-content/uploads/2022/12/featured-image.jpg
END:VEVENT
BEGIN:VEVENT
DTSTART;TZID=America/New_York:20260413T130000
DTEND;TZID=America/New_York:20260413T140000
DTSTAMP:20260420T141918
CREATED:20260401T165317Z
LAST-MODIFIED:20260401T223245Z
UID:97797-1776085200-1776088800@katzjcc.org
SUMMARY:Strength & Balance
DESCRIPTION:Warmup followed by strength utilizing both weights and exercise bands. Balance practice both stationery and walking ending with stretch.
URL:https://katzjcc.org/event/strength-balance-219/
LOCATION:J360 Studio
CATEGORIES:ALL Fitness & Wellness,Fitness & Wellness: Hybrid (Virtual/In-Person) Class
ATTACH;FMTTYPE=image/jpeg:https://katzjcc.org/wp-content/uploads/2022/12/featured-image.jpg
END:VEVENT
BEGIN:VEVENT
DTSTART;TZID=America/New_York:20260413T170000
DTEND;TZID=America/New_York:20260413T174500
DTSTAMP:20260420T141918
CREATED:20260401T165515Z
LAST-MODIFIED:20260401T223445Z
UID:97798-1776099600-1776102300@katzjcc.org
SUMMARY:Spin & Sculpt
DESCRIPTION:A combination of cycling\, mixed with using light hand weights to tone upper body during class.
URL:https://katzjcc.org/event/spin-sculpt-214/
CATEGORIES:ALL Fitness & Wellness,Fitness & Wellness: Indoor Class
ATTACH;FMTTYPE=image/jpeg:https://katzjcc.org/wp-content/uploads/2022/12/featured-image.jpg
END:VEVENT
BEGIN:VEVENT
DTSTART;TZID=America/New_York:20260413T181500
DTEND;TZID=America/New_York:20260413T190000
DTSTAMP:20260420T141918
CREATED:20260401T165515Z
LAST-MODIFIED:20260401T223445Z
UID:97799-1776104100-1776106800@katzjcc.org
SUMMARY:Zumba
DESCRIPTION:A combination of high energy fitness moves and Latin style dance to Latin music.
URL:https://katzjcc.org/event/zumba-644/
LOCATION:J360 Studio
CATEGORIES:ALL Fitness & Wellness,Fitness & Wellness: Indoor Class
ATTACH;FMTTYPE=image/jpeg:https://katzjcc.org/wp-content/uploads/2022/12/featured-image.jpg
END:VEVENT
BEGIN:VEVENT
DTSTART;TZID=America/New_York:20260413T181500
DTEND;TZID=America/New_York:20260413T190000
DTSTAMP:20260420T141918
CREATED:20260401T165516Z
LAST-MODIFIED:20260401T223445Z
UID:97800-1776104100-1776106800@katzjcc.org
SUMMARY:Barre
DESCRIPTION:Full body fusion workout with influences from ballet\, yoga\, Pilates and more. Use a variety of equipment to focus on large and small movements that challenge your muscular endurance\, balance\, core strength and postural alignment with low to no impact.
URL:https://katzjcc.org/event/barre-10/
LOCATION:JFlow Studio
CATEGORIES:ALL Fitness & Wellness,Fitness & Wellness: Hybrid (Virtual/In-Person) Class
ATTACH;FMTTYPE=image/jpeg:https://katzjcc.org/wp-content/uploads/2022/12/featured-image.jpg
END:VEVENT
BEGIN:VEVENT
DTSTART;TZID=America/New_York:20260413T191500
DTEND;TZID=America/New_York:20260413T200000
DTSTAMP:20260420T141918
CREATED:20260401T165516Z
LAST-MODIFIED:20260401T223445Z
UID:97801-1776107700-1776110400@katzjcc.org
SUMMARY:Sculpt & Tone
DESCRIPTION:An overall full body workout utilizing weights\, bands\, balls and more to strengthen and tone. All level workout.
URL:https://katzjcc.org/event/sculpt-tone-332/
LOCATION:J360 Studio
CATEGORIES:ALL Fitness & Wellness,Fitness & Wellness: Indoor Class
ATTACH;FMTTYPE=image/jpeg:https://katzjcc.org/wp-content/uploads/2022/12/featured-image.jpg
END:VEVENT
BEGIN:VEVENT
DTSTART;TZID=America/New_York:20260414T054500
DTEND;TZID=America/New_York:20260414T064500
DTSTAMP:20260420T141918
CREATED:20260401T171927Z
LAST-MODIFIED:20260401T230306Z
UID:97858-1776145500-1776149100@katzjcc.org
SUMMARY:Strength & HIIT
DESCRIPTION:Experience the ultimate fusion of strength training & high-intensity interval training (HIIT) in our dynamic group fitness class. This class is designed to challenge your body in new ways\, combining the muscle-building benefits of strength training with the calorie-burning intensity of HIIT for a total body workout that will leave you feeling stronger and more energized.
URL:https://katzjcc.org/event/strength-hiit-182/
LOCATION:J360 Studio
CATEGORIES:ALL Fitness & Wellness,Fitness & Wellness: Indoor Class
ATTACH;FMTTYPE=image/jpeg:https://katzjcc.org/wp-content/uploads/2022/12/featured-image.jpg
END:VEVENT
BEGIN:VEVENT
DTSTART;TZID=America/New_York:20260414T071500
DTEND;TZID=America/New_York:20260414T081500
DTSTAMP:20260420T141918
CREATED:20260401T171927Z
LAST-MODIFIED:20260401T230306Z
UID:97859-1776150900-1776154500@katzjcc.org
SUMMARY:Zen Flow Yoga
DESCRIPTION:Awaken\, recharge and connect your mind-body together with a vinyasa flow and use of varying breath techniques.
URL:https://katzjcc.org/event/zen-flow-yoga-257/
LOCATION:JFlow Studio
CATEGORIES:ALL Fitness & Wellness,Fitness & Wellness: Hybrid (Virtual/In-Person) Class
ATTACH;FMTTYPE=image/jpeg:https://katzjcc.org/wp-content/uploads/2022/12/featured-image.jpg
END:VEVENT
BEGIN:VEVENT
DTSTART;TZID=America/New_York:20260414T081500
DTEND;TZID=America/New_York:20260414T090000
DTSTAMP:20260420T141918
CREATED:20260401T171928Z
LAST-MODIFIED:20260401T230506Z
UID:97860-1776154500-1776157200@katzjcc.org
SUMMARY:Sculpt & Tone
DESCRIPTION:An overall full body workout utilizing weights\, bands\, balls and more to strengthen and tone. All level workout.
URL:https://katzjcc.org/event/sculpt-tone-336/
LOCATION:J360 Studio
CATEGORIES:ALL Fitness & Wellness,Fitness & Wellness: Hybrid (Virtual/In-Person) Class
ATTACH;FMTTYPE=image/jpeg:https://katzjcc.org/wp-content/uploads/2022/12/featured-image.jpg
END:VEVENT
BEGIN:VEVENT
DTSTART;TZID=America/New_York:20260414T091500
DTEND;TZID=America/New_York:20260414T100000
DTSTAMP:20260420T141918
CREATED:20260401T171928Z
LAST-MODIFIED:20260401T230506Z
UID:97861-1776158100-1776160800@katzjcc.org
SUMMARY:Cycling
DESCRIPTION:Combination of drills\, challenges and training exercises with variations in speed and resistance on stationary bikes\, set to motivating music. Classes may feature interval\, strength\, endurance\, tempo or a mix\, so no two classes are identical. On-bike monitors can be used to track performance.
URL:https://katzjcc.org/event/cycling-914/
CATEGORIES:ALL Fitness & Wellness,Fitness & Wellness: Indoor Class
ATTACH;FMTTYPE=image/jpeg:https://katzjcc.org/wp-content/uploads/2022/12/featured-image.jpg
END:VEVENT
BEGIN:VEVENT
DTSTART;TZID=America/New_York:20260414T093000
DTEND;TZID=America/New_York:20260414T103000
DTSTAMP:20260420T141918
CREATED:20260401T171929Z
LAST-MODIFIED:20260401T230506Z
UID:97862-1776159000-1776162600@katzjcc.org
SUMMARY:Tai Chi
DESCRIPTION:Reduce stress\, improve balance\, blood pressure and bone density.
URL:https://katzjcc.org/event/tai-chi-581/
LOCATION:J360 Studio
CATEGORIES:ALL Fitness & Wellness,Fitness & Wellness: Indoor Class
ATTACH;FMTTYPE=image/jpeg:https://katzjcc.org/wp-content/uploads/2022/12/featured-image.jpg
END:VEVENT
BEGIN:VEVENT
DTSTART;TZID=America/New_York:20260414T093000
DTEND;TZID=America/New_York:20260414T103000
DTSTAMP:20260420T141918
CREATED:20260401T173510Z
LAST-MODIFIED:20260401T230506Z
UID:97863-1776159000-1776162600@katzjcc.org
SUMMARY:Barre
DESCRIPTION:Total body workout that will help build a strong core\, tone muscles\, improve flexibility and mental focus. 
URL:https://katzjcc.org/event/barre-18/
LOCATION:JFlow Studio
CATEGORIES:ALL Fitness & Wellness,Fitness & Wellness: Hybrid (Virtual/In-Person) Class
ATTACH;FMTTYPE=image/jpeg:https://katzjcc.org/wp-content/uploads/2022/12/featured-image.jpg
END:VEVENT
BEGIN:VEVENT
DTSTART;TZID=America/New_York:20260414T104500
DTEND;TZID=America/New_York:20260414T114500
DTSTAMP:20260420T141918
CREATED:20260401T173510Z
LAST-MODIFIED:20260401T230506Z
UID:97864-1776163500-1776167100@katzjcc.org
SUMMARY:Zumba
DESCRIPTION:A combination of high energy fitness moves and Latin style dance to Latin music.
URL:https://katzjcc.org/event/zumba-648/
LOCATION:J360 Studio
CATEGORIES:ALL Fitness & Wellness,Fitness & Wellness: Hybrid (Virtual/In-Person) Class
ATTACH;FMTTYPE=image/jpeg:https://katzjcc.org/wp-content/uploads/2022/12/featured-image.jpg
END:VEVENT
BEGIN:VEVENT
DTSTART;TZID=America/New_York:20260414T110000
DTEND;TZID=America/New_York:20260414T120000
DTSTAMP:20260420T141918
CREATED:20260401T173511Z
LAST-MODIFIED:20260401T230706Z
UID:97865-1776164400-1776168000@katzjcc.org
SUMMARY:Tai Chi
DESCRIPTION:Reduce stress\, improve balance\, blood pressure and bone density.
URL:https://katzjcc.org/event/tai-chi-582/
LOCATION:JFlow Studio
CATEGORIES:ALL Fitness & Wellness,Fitness & Wellness: Indoor Class
ATTACH;FMTTYPE=image/jpeg:https://katzjcc.org/wp-content/uploads/2022/12/featured-image.jpg
END:VEVENT
BEGIN:VEVENT
DTSTART;TZID=America/New_York:20260414T120000
DTEND;TZID=America/New_York:20260414T124500
DTSTAMP:20260420T141918
CREATED:20260401T173512Z
LAST-MODIFIED:20260401T230706Z
UID:97866-1776168000-1776170700@katzjcc.org
SUMMARY:Find Your Center
DESCRIPTION:This is not your average core class. It is not about crunches and planks. This class is designed to bring awareness and control to your abdominals to help with your everyday life
URL:https://katzjcc.org/event/find-your-center-27/
LOCATION:J360 Studio
CATEGORIES:ALL Fitness & Wellness,Fitness & Wellness: Indoor Class
ATTACH;FMTTYPE=image/jpeg:https://katzjcc.org/wp-content/uploads/2022/12/featured-image.jpg
END:VEVENT
BEGIN:VEVENT
DTSTART;TZID=America/New_York:20260414T121500
DTEND;TZID=America/New_York:20260414T131500
DTSTAMP:20260420T141918
CREATED:20260401T173513Z
LAST-MODIFIED:20260401T230706Z
UID:97867-1776168900-1776172500@katzjcc.org
SUMMARY:Slow Flow Yoga
DESCRIPTION:All level vinyasa style yoga\, slightly slowed down to focus on stretches and mind\, body and spirit.
URL:https://katzjcc.org/event/slow-flow-yoga-312/
LOCATION:JFlow Studio
CATEGORIES:ALL Fitness & Wellness,Fitness & Wellness: Indoor Class
ATTACH;FMTTYPE=image/jpeg:https://katzjcc.org/wp-content/uploads/2022/12/featured-image.jpg
END:VEVENT
BEGIN:VEVENT
DTSTART;TZID=America/New_York:20260414T130000
DTEND;TZID=America/New_York:20260414T134500
DTSTAMP:20260420T141918
CREATED:20260401T173710Z
LAST-MODIFIED:20260401T230706Z
UID:97868-1776171600-1776174300@katzjcc.org
SUMMARY:Drums Alive
DESCRIPTION:Chair yoga is a practice that is beneficial to all. In these classes you will use the support of the chair to arrive in yoga poses\, move\, breathe & ultimately feel good!
URL:https://katzjcc.org/event/drums-alive-4/
LOCATION:J360 Studio
CATEGORIES:ALL Fitness & Wellness,Fitness & Wellness: Indoor Class
ATTACH;FMTTYPE=image/jpeg:https://katzjcc.org/wp-content/uploads/2022/12/featured-image.jpg
END:VEVENT
BEGIN:VEVENT
DTSTART;TZID=America/New_York:20260414T170000
DTEND;TZID=America/New_York:20260414T174500
DTSTAMP:20260420T141918
CREATED:20260401T173710Z
LAST-MODIFIED:20260401T230706Z
UID:97869-1776186000-1776188700@katzjcc.org
SUMMARY:Chair Flow Yoga
DESCRIPTION:A combination of cycling\, mixed with using light hand weights to tone upper body during class.
URL:https://katzjcc.org/event/chair-flow-yoga-49/
CATEGORIES:ALL Fitness & Wellness,Fitness & Wellness: Indoor Class
ATTACH;FMTTYPE=image/jpeg:https://katzjcc.org/wp-content/uploads/2022/12/featured-image.jpg
END:VEVENT
BEGIN:VEVENT
DTSTART;TZID=America/New_York:20260414T180000
DTEND;TZID=America/New_York:20260414T184500
DTSTAMP:20260420T141918
CREATED:20260401T173711Z
LAST-MODIFIED:20260401T230906Z
UID:97870-1776189600-1776192300@katzjcc.org
SUMMARY:Spin & Sculpt
DESCRIPTION:A combination of cycling\, mixed with using light hand weights to tone upper body during class.
URL:https://katzjcc.org/event/spin-sculpt-220/
CATEGORIES:ALL Fitness & Wellness,Fitness & Wellness: Indoor Class
ATTACH;FMTTYPE=image/jpeg:https://katzjcc.org/wp-content/uploads/2022/12/featured-image.jpg
END:VEVENT
BEGIN:VEVENT
DTSTART;TZID=America/New_York:20260414T180000
DTEND;TZID=America/New_York:20260414T190000
DTSTAMP:20260420T141918
CREATED:20260401T173711Z
LAST-MODIFIED:20260401T230906Z
UID:97871-1776189600-1776193200@katzjcc.org
SUMMARY:Stretch & Vinyasa Yoga
DESCRIPTION:Awaken\, recharge and connect your mind-body together with a vinyasa flow and use of varying breath techniques.
URL:https://katzjcc.org/event/stretch-vinyasa-yoga-104/
LOCATION:JFlow Studio
CATEGORIES:ALL Fitness & Wellness,Fitness & Wellness: Hybrid (Virtual/In-Person) Class
ATTACH;FMTTYPE=image/jpeg:https://katzjcc.org/wp-content/uploads/2022/12/featured-image.jpg
END:VEVENT
BEGIN:VEVENT
DTSTART;TZID=America/New_York:20260414T190000
DTEND;TZID=America/New_York:20260414T194500
DTSTAMP:20260420T141918
CREATED:20260401T173712Z
LAST-MODIFIED:20260401T230906Z
UID:97872-1776193200-1776195900@katzjcc.org
SUMMARY:Bodypump
DESCRIPTION:Les Mills’ original barbell class supplies a full body workout\, choreographed to great music.  Use light plates and high repetitions to train each muscle group in this fat burning weight training class
URL:https://katzjcc.org/event/bodypump-31/
LOCATION:J360 Studio
CATEGORIES:ALL Fitness & Wellness,Fitness & Wellness: Indoor Class
ATTACH;FMTTYPE=image/jpeg:https://katzjcc.org/wp-content/uploads/2022/12/featured-image.jpg
END:VEVENT
BEGIN:VEVENT
DTSTART;TZID=America/New_York:20260414T190500
DTEND;TZID=America/New_York:20260414T195000
DTSTAMP:20260420T141918
CREATED:20260401T173911Z
LAST-MODIFIED:20260401T230906Z
UID:97873-1776193500-1776196200@katzjcc.org
SUMMARY:Mat Pilates
DESCRIPTION:Tone muscles\, develop core strength and stability 
URL:https://katzjcc.org/event/mat-pilates-450/
CATEGORIES:ALL Fitness & Wellness,Fitness & Wellness: Indoor Class
ATTACH;FMTTYPE=image/jpeg:https://katzjcc.org/wp-content/uploads/2022/12/featured-image.jpg
END:VEVENT
BEGIN:VEVENT
DTSTART;TZID=America/New_York:20260414T191500
DTEND;TZID=America/New_York:20260414T200000
DTSTAMP:20260420T141918
CREATED:20260401T173911Z
LAST-MODIFIED:20260401T230906Z
UID:97874-1776194100-1776196800@katzjcc.org
SUMMARY:House Party Fitness
DESCRIPTION:Throwback tunes and high energy dance moves are the heart of this party! Add in light weights for toning plus a little mat-based core work\, and you’ve got a unique mix that’s sure to leave you smiling and sweating.
URL:https://katzjcc.org/event/house-party-fitness-121/
LOCATION:JFlow Studio
CATEGORIES:ALL Fitness & Wellness,Fitness & Wellness: Hybrid (Virtual/In-Person) Class
ATTACH;FMTTYPE=image/jpeg:https://katzjcc.org/wp-content/uploads/2022/12/featured-image.jpg
END:VEVENT
BEGIN:VEVENT
DTSTART;TZID=America/New_York:20260415T053000
DTEND;TZID=America/New_York:20260415T061500
DTSTAMP:20260420T141918
CREATED:20260401T181031Z
LAST-MODIFIED:20260401T234357Z
UID:97944-1776231000-1776233700@katzjcc.org
SUMMARY:Vinyasa Flow
DESCRIPTION:This practice consists of mini flows\, beginning with Sun salutation to warm up the body before moving into breath to movement asana\, balancing and floor poses. These power sequences are a series of movements that flow one to the next on breath. This is a faster paced moving class suitable for students with prior yoga experience.
URL:https://katzjcc.org/event/vinyasa-flow-59/
LOCATION:J360 Studio
CATEGORIES:ALL Fitness & Wellness,Fitness & Wellness: Indoor Class
ATTACH;FMTTYPE=image/jpeg:https://katzjcc.org/wp-content/uploads/2022/12/featured-image.jpg
END:VEVENT
BEGIN:VEVENT
DTSTART;TZID=America/New_York:20260415T063000
DTEND;TZID=America/New_York:20260415T070000
DTSTAMP:20260420T141918
CREATED:20260401T181032Z
LAST-MODIFIED:20260401T234357Z
UID:97945-1776234600-1776236400@katzjcc.org
SUMMARY:Express Cycling
DESCRIPTION:Combination of drills\, challenges and training exercises with variations in speed and resistance on stationary bikes\, set to motivating music. Classes may feature interval\, strength\, endurance\, tempo or a mix\, so no two classes are identical. On-bike monitors can be used to track performance.
URL:https://katzjcc.org/event/express-cycling-362/
CATEGORIES:ALL Fitness & Wellness,Fitness & Wellness: Indoor Class
ATTACH;FMTTYPE=image/jpeg:https://katzjcc.org/wp-content/uploads/2022/12/featured-image.jpg
END:VEVENT
BEGIN:VEVENT
DTSTART;TZID=America/New_York:20260415T080000
DTEND;TZID=America/New_York:20260415T084500
DTSTAMP:20260420T141918
CREATED:20260401T234357Z
LAST-MODIFIED:20260401T234357Z
UID:97954-1776240000-1776242700@katzjcc.org
SUMMARY:Gentle Yoga
DESCRIPTION:Enjoy a slow vinyasa/flow with assistance from block(s) and a strap. Perfect for those beginning their yoga journey or anyone looking for a relaxing practice.
URL:https://katzjcc.org/event/gentle-yoga-502/
LOCATION:JFlow Studio
CATEGORIES:ALL Fitness & Wellness,Fitness & Wellness: Hybrid (Virtual/In-Person) Class
ATTACH;FMTTYPE=image/jpeg:https://katzjcc.org/wp-content/uploads/2022/12/featured-image.jpg
END:VEVENT
BEGIN:VEVENT
DTSTART;TZID=America/New_York:20260415T080000
DTEND;TZID=America/New_York:20260415T090000
DTSTAMP:20260420T141918
CREATED:20260401T234357Z
LAST-MODIFIED:20260401T234357Z
UID:97955-1776240000-1776243600@katzjcc.org
SUMMARY:Mat Pilates
DESCRIPTION:Develop Core strength stability\, and challenge through postural muscles. May use a variety of props or just a mat
URL:https://katzjcc.org/event/mat-pilates-455/
CATEGORIES:ALL Fitness & Wellness,Fitness & Wellness: Indoor Class
ATTACH;FMTTYPE=image/jpeg:https://katzjcc.org/wp-content/uploads/2022/12/featured-image.jpg
END:VEVENT
BEGIN:VEVENT
DTSTART;TZID=America/New_York:20260415T083000
DTEND;TZID=America/New_York:20260415T093000
DTSTAMP:20260420T141918
CREATED:20260401T234358Z
LAST-MODIFIED:20260401T234358Z
UID:97956-1776241800-1776245400@katzjcc.org
SUMMARY:Les Mills Bodypump & Core
DESCRIPTION:nspired by elite athletic training principles\, LES MILLS Bodypump & Core are scientific workouts for incredible tone and sports performance. You build strength\, stability and endurance in the muscles\, improve balance\, assist injury prevention\, and become better at everything you do
URL:https://katzjcc.org/event/les-mills-bodypump-core-64/
LOCATION:J360 Studio
CATEGORIES:ALL Fitness & Wellness,Fitness & Wellness: Hybrid (Virtual/In-Person) Class
ATTACH;FMTTYPE=image/jpeg:https://katzjcc.org/wp-content/uploads/2022/12/featured-image.jpg
END:VEVENT
BEGIN:VEVENT
DTSTART;TZID=America/New_York:20260415T090000
DTEND;TZID=America/New_York:20260415T093000
DTSTAMP:20260420T141918
CREATED:20260402T003251Z
LAST-MODIFIED:20260402T003251Z
UID:97957-1776243600-1776245400@katzjcc.org
SUMMARY:Express Cycling
DESCRIPTION:Combination of drills\, challenges and training exercises with variations in speed and resistance on stationary bikes\, set to motivating music. Classes may feature interval\, strength\, endurance\, tempo or a mix\, so no two classes are identical. On-bike monitors can be used to track performance.
URL:https://katzjcc.org/event/express-cycling-363/
CATEGORIES:ALL Fitness & Wellness,Fitness & Wellness: Indoor Class
ATTACH;FMTTYPE=image/jpeg:https://katzjcc.org/wp-content/uploads/2022/12/featured-image.jpg
END:VEVENT
END:VCALENDAR